BEGIN:VCALENDAR
VERSION:2.0
PRODID:-//Markham Jazz Festival - ECPv4.9.3.1//NONSGML v1.0//EN
CALSCALE:GREGORIAN
METHOD:PUBLISH
X-WR-CALNAME:Markham Jazz Festival
X-ORIGINAL-URL:http://www.markhamjazzfestival.com
X-WR-CALDESC:Events for Markham Jazz Festival
BEGIN:VEVENT
DTSTART;TZID=America/Toronto:20160818T200000
DTEND;TZID=America/Toronto:20160818T223000
DTSTAMP:20260425T182614
CREATED:20160628T172044Z
LAST-MODIFIED:20160816T185727Z
UID:741-1471550400-1471559400@www.markhamjazzfestival.com
SUMMARY:Molly Johnson
DESCRIPTION:Kennedy Hi-Fi Home Audio & Video \nKennedy Hi-Fi presents:\nMolly Johnson with Alison Young\nEvening includes: \n\nSilent Auction\nIntermission Reception with complimentary hors d’oeuvres\nCash bar available for beer and wine after one complimentary drink\n\n  \n[tagline_box backgroundcolor=”” shadow=”no” shadowopacity=”0.1″ border=”1px” bordercolor=”#dd3333″ highlightposition=”bottom” content_alignment=”left” link=”http://www.markhamjazzfestival.com/schedules/” linktarget=”_self” modal=”” button_size=”” button_shape=”” button_type=”” buttoncolor=”” button=”Browse other events” title=”SOLD OUT!” description=”Sorry\, this event is sold out.” margin_top=”” margin_bottom=”” animation_type=”0″ animation_direction=”down” animation_speed=”0.1″ animation_offset=”” class=”” id=””][/tagline_box]\nKnown as one of Canada’s greatest voices\, award-winning jazz vocalist Molly Johnson is a mother\, singer-songwriter\, artist and philanthropist who has grown to become a Canadian icon in the jazz scene worldwide. Molly’s luscious interpretations of jazz and blues standards speak to an emotional depth that few vocalists in any genre have ever reached. \n[title size=”4″ content_align=”left” style_type=”single solid” sep_color=”” margin_top=”” margin_bottom=”” class=”” id=””]Admission $60 (includes complimentary reception with wine and beer\, and silent auction) \nDoors open at 7:15 pm \nTickets available online\, by phone at 905-471-5299 or at the door (subject to availability) [/title]\nEvent Sponsor:\nKennedy Hi-Fi\, Home Audio and Video \nBeer Sponsor:\nMill St. Brewery \nFood Sponsors:\nShopsy’s Deli/Restaurant\, Take Out/Catering \nCathy Walker\, RE/MAX Allstars Realty \n
URL:http://www.markhamjazzfestival.com/event/molly-johnson/
LOCATION:Varley Art Gallery\, 216 Main Street\, Unionville\, Ontario\, L3R 2H1\, Canada
ATTACH;FMTTYPE=image/jpeg:http://www.markhamjazzfestival.com/wp-content/uploads/2016/08/MollyJohnson-soldout-1.jpg
END:VEVENT
END:VCALENDAR