BEGIN:VCALENDAR
VERSION:2.0
PRODID:-//Markham Jazz Festival - ECPv4.9.3.1//NONSGML v1.0//EN
CALSCALE:GREGORIAN
METHOD:PUBLISH
X-WR-CALNAME:Markham Jazz Festival
X-ORIGINAL-URL:http://www.markhamjazzfestival.com
X-WR-CALDESC:Events for Markham Jazz Festival
BEGIN:VEVENT
DTSTART;TZID=America/Toronto:20180815T200000
DTEND;TZID=America/Toronto:20180815T220000
DTSTAMP:20260425T170020
CREATED:20180702T175835Z
LAST-MODIFIED:20180707T194058Z
UID:2050-1534363200-1534370400@www.markhamjazzfestival.com
SUMMARY:Laila Biali
DESCRIPTION:\n					\n						\n\n					\n				\n					\n						.fusion-button.button-1 .fusion-button-text\, .fusion-button.button-1 i {color:#ffffff;}.fusion-button.button-1 {border-width:0px;border-color:#ffffff;}.fusion-button.button-1 .fusion-button-icon-divider{border-color:#ffffff;}.fusion-button.button-1:hover .fusion-button-text\, .fusion-button.button-1:hover i\,.fusion-button.button-1:focus .fusion-button-text\, .fusion-button.button-1:focus i\,.fusion-button.button-1:active .fusion-button-text\, .fusion-button.button-1:active{color:#ffffff;}.fusion-button.button-1:hover\, .fusion-button.button-1:focus\, .fusion-button.button-1:active{border-width:0px;border-color:#ffffff;}.fusion-button.button-1:hover .fusion-button-icon-divider\, .fusion-button.button-1:hover .fusion-button-icon-divider\, .fusion-button.button-1:active .fusion-button-icon-divider{border-color:#ffffff;}.fusion-button.button-1{width:100%;}Buy Tickets Online\nAdmission: $60 \nAward-winning Canadian singer\, songwriter and pianist Laila Biali returns to the TDMJF for a captivating evening.  Her accolades include SOCAN Composer of the Year and Keyboardist of the Year at Canada’s National Jazz Awards.  She takes the best of pop\, rock\, classical\, world and soul\, informs it with her expertise in jazz\, and weaves it into her musical arrangements and original songs. \nSponsored by: \n \n  \n  \n  \n\n\n					\n				\n\n					\n						\n  \nA superb evening in an inviting\, up-close-and-personal\, club-like setting! \nThis very special evening is sponsored by Minken Employment Lawyers.   Your $60 ticket includes all of the following: \n\nCraft beer tastings – courtesy of Rouge River Brewing Company\nGlass of Wine – courtesy of Philippe Dandurand Wines\nAppetizers and hors d’oeuvres\nSilent Auction\n\nSeating is limited to fewer than 100\, so order your tickets now! \n\n\n					\n				\n.fusion-button.button-2 .fusion-button-text\, .fusion-button.button-2 i {color:#ffffff;}.fusion-button.button-2 {border-width:0px;border-color:#ffffff;}.fusion-button.button-2 .fusion-button-icon-divider{border-color:#ffffff;}.fusion-button.button-2:hover .fusion-button-text\, .fusion-button.button-2:hover i\,.fusion-button.button-2:focus .fusion-button-text\, .fusion-button.button-2:focus i\,.fusion-button.button-2:active .fusion-button-text\, .fusion-button.button-2:active{color:#ffffff;}.fusion-button.button-2:hover\, .fusion-button.button-2:focus\, .fusion-button.button-2:active{border-width:0px;border-color:#ffffff;}.fusion-button.button-2:hover .fusion-button-icon-divider\, .fusion-button.button-2:hover .fusion-button-icon-divider\, .fusion-button.button-2:active .fusion-button-icon-divider{border-color:#ffffff;}.fusion-button.button-2{width:100%;}Buy Tickets Online\n  \n
URL:http://www.markhamjazzfestival.com/event/laila-biali/
LOCATION:Varley Art Gallery\, 216 Main Street\, Unionville\, Ontario\, L3R 2H1\, Canada
CATEGORIES:Varley Art Gallery
END:VEVENT
END:VCALENDAR