BEGIN:VCALENDAR
VERSION:2.0
PRODID:-//Markham Jazz Festival - ECPv4.9.3.1//NONSGML v1.0//EN
CALSCALE:GREGORIAN
METHOD:PUBLISH
X-WR-CALNAME:Markham Jazz Festival
X-ORIGINAL-URL:http://www.markhamjazzfestival.com
X-WR-CALDESC:Events for Markham Jazz Festival
BEGIN:VEVENT
DTSTART;TZID=America/Toronto:20181209T140000
DTEND;TZID=America/Toronto:20181209T160000
DTSTAMP:20260425T182613
CREATED:20181114T172944Z
LAST-MODIFIED:20181121T165548Z
UID:2361-1544364000-1544371200@www.markhamjazzfestival.com
SUMMARY:Jake Koffman
DESCRIPTION:\n					\n						\n\n					\n				\n\n					\n						\nThe TD Markham Jazz Festival is very proud to present saxophonist Jake Koffman as our last concert of 2018.  If you are thinking the name has a familiar ring to it\, Jake is the grandson of reedman and flutist Moe Koffman\, whose hit song “Swinging Shepherd Blues” helped put Canadian jazz on the world map. \nJake plays saxophones\, flute and clarinet\, and released his debut album in 2014\, to widespread critical acclaim! \nJake will be performing with BERNIE SENENSKY (organ)\, NATHAN HILTZ (guitar) and MORGAN CHILDS (drums). \n  \n\n\n					\n				\n  \n
URL:http://www.markhamjazzfestival.com/event/jake-koffman/
LOCATION:The Duchess of Markham Pub & Restaurant\, 53 Main Street North\, Markham\, ON\, L3P 1X7\, Canada
CATEGORIES:The Duchess of Markham
END:VEVENT
END:VCALENDAR