BEGIN:VCALENDAR
VERSION:2.0
PRODID:-//Markham Jazz Festival - ECPv4.9.3.1//NONSGML v1.0//EN
CALSCALE:GREGORIAN
METHOD:PUBLISH
X-WR-CALNAME:Markham Jazz Festival
X-ORIGINAL-URL:http://www.markhamjazzfestival.com
X-WR-CALDESC:Events for Markham Jazz Festival
BEGIN:VEVENT
DTSTART;TZID=America/Toronto:20170816T200000
DTEND;TZID=America/Toronto:20170816T220000
DTSTAMP:20260425T194559
CREATED:20170621T205239Z
LAST-MODIFIED:20170822T212539Z
UID:1363-1502913600-1502920800@www.markhamjazzfestival.com
SUMMARY:Barbra Lica
DESCRIPTION:ADMISSION: $60 \nJuno-nominated artist and York Region native Barbra Lica\, is a fast-rising star in the Canadian Jazz scene. In the short period of time since her 2012 debut album release\, ‘That’s What I Do’\, she has been selected as one of Canada’s Top five Jazz singers by CBC host Tim Tamashiro\, as well as one of five up-and-coming jazz artists in Toronto by blogTO. \n
URL:http://www.markhamjazzfestival.com/event/barbra-lica/
LOCATION:Varley Art Gallery\, 216 Main Street\, Unionville\, Ontario\, L3R 2H1\, Canada
CATEGORIES:Varley Art Gallery
ATTACH;FMTTYPE=image/jpeg:http://www.markhamjazzfestival.com/wp-content/uploads/2017/06/MJF17-OpeningNight-poster.jpg
END:VEVENT
END:VCALENDAR